BEGIN:VCALENDAR
PRODID:-//eluceo/ical//2.0/EN
VERSION:2.0
CALSCALE:GREGORIAN
BEGIN:VEVENT
UID:a4a5e0fc06f87c051c8dfc5cfe1f8e28
DTSTAMP:20260421T084514Z
SUMMARY:Bostadsmarknaden - vad krävs för att det ska lossna?
DESCRIPTION:Talare: Sofia Ljungdahl
URL:https://djursholm.rotary2355.se/sv/agenda/show/214964
DTSTART;TZID=Europe/Zurich:20251024T113000
DTEND;TZID=Europe/Zurich:20251024T130000
LOCATION:Djursholms Golfklubb\, Hagbardsvägen 1\, 182 63 Djursholm
CATEGORIES:Rotary
END:VEVENT
BEGIN:VTIMEZONE
TZID:Europe/Zurich
BEGIN:DAYLIGHT
DTSTART:20251024T113000
TZNAME:CEST
TZOFFSETTO:+0200
TZOFFSETFROM:+0200
END:DAYLIGHT
END:VTIMEZONE
END:VCALENDAR
